BEGIN:VCALENDAR
VERSION:2.0
PRODID:-//Rock Metal Magazine - ECPv6.15.20//NONSGML v1.0//EN
CALSCALE:GREGORIAN
METHOD:PUBLISH
X-WR-CALNAME:Rock Metal Magazine
X-ORIGINAL-URL:https://rockmetal.net
X-WR-CALDESC:Events for Rock Metal Magazine
REFRESH-INTERVAL;VALUE=DURATION:PT1H
X-Robots-Tag:noindex
X-PUBLISHED-TTL:PT1H
BEGIN:VTIMEZONE
TZID:America/New_York
BEGIN:DAYLIGHT
TZOFFSETFROM:-0500
TZOFFSETTO:-0400
TZNAME:EDT
DTSTART:20240310T070000
END:DAYLIGHT
BEGIN:STANDARD
TZOFFSETFROM:-0400
TZOFFSETTO:-0500
TZNAME:EST
DTSTART:20241103T060000
END:STANDARD
BEGIN:DAYLIGHT
TZOFFSETFROM:-0500
TZOFFSETTO:-0400
TZNAME:EDT
DTSTART:20250309T070000
END:DAYLIGHT
BEGIN:STANDARD
TZOFFSETFROM:-0400
TZOFFSETTO:-0500
TZNAME:EST
DTSTART:20251102T060000
END:STANDARD
BEGIN:DAYLIGHT
TZOFFSETFROM:-0500
TZOFFSETTO:-0400
TZNAME:EDT
DTSTART:20260308T070000
END:DAYLIGHT
BEGIN:STANDARD
TZOFFSETFROM:-0400
TZOFFSETTO:-0500
TZNAME:EST
DTSTART:20261101T060000
END:STANDARD
END:VTIMEZONE
BEGIN:VEVENT
DTSTART;TZID=America/New_York:20250121T153000
DTEND;TZID=America/New_York:20250121T153000
DTSTAMP:20260421T181935
CREATED:20241211T041847Z
LAST-MODIFIED:20241211T042120Z
UID:1332-1737473400-1737473400@rockmetal.net
SUMMARY:Left To Die en Lima 2025
DESCRIPTION:Left to Die por primera vez en Lima estarán tocando los clásicos de Death de sus épocas Scream Bloody Gore y Leprosy. \nCerremos el círculo en honor a Chuck Schuldiner\, el padre del Death Metal\, con una brutal noche acompañados de Rick Rozz (Guitarra) y Terry Butler (Bajo) que nos llevarán de regreso a 1987 y 1988 con esos himnos inmortales del Death Metal. Ellos estarán acompañados de Matt Harvey (Exhumed\, Gruesome) y Gus Rios \n  \nSerá en Yield Rock de la Plaza San Martín!! \n  \n🎟️ Tickets Joinnus + comisión: https://t.ly/yd3c \nS/ 220 (Del 4 de Octubre al 31 de Diciembre 2024) \nS/ 250 (Del 1 al 21 de Enero de 2025) \n  \nVenta de entradas físicas: \n✅ Xtremo Tienda: Tda. 55-B 2do. piso Galería Brasil \n✅ Necrolandia Metalstore: Tda. 24A 1er. piso Galería Brasil \n✅ Desmadre Store: Tda. 95-B 2do piso Galería Brasil \n✅ Morador Records: Jr. Camaná 934\, Tda. 14 Cercado Lima \n✅ Eclipse Record Store: Benavides 347 Tda.40 Miraflores \n✅ El Bunker: CC Cantuarias Tienda 215 Miraflores \n✅ The Coffee House: Av. Joaquín Madrid 299 San Borja \n✅ The Coffee House: Av. Pedro Venturo 128 Surco \n✅ Desmadre Store Los Olivos: Jr. José de San Martín Mz U Lt 21 Urb. El Trébol 3ra Etapa (Alt. Correo Serpost Tomás Valle) @destacar
URL:https://rockmetal.net/evento/left-to-die-en-lima-2025/
CATEGORIES:Death Metal
ATTACH;FMTTYPE=image/webp:https://rockmetal.net/wp-content/uploads/2024/11/lefttodie-lima.webp
END:VEVENT
END:VCALENDAR