BEGIN:VCALENDAR
VERSION:2.0
PRODID:-//Rock Metal Magazine - ECPv6.15.20//NONSGML v1.0//EN
CALSCALE:GREGORIAN
METHOD:PUBLISH
X-WR-CALNAME:Rock Metal Magazine
X-ORIGINAL-URL:https://rockmetal.net
X-WR-CALDESC:Events for Rock Metal Magazine
REFRESH-INTERVAL;VALUE=DURATION:PT1H
X-Robots-Tag:noindex
X-PUBLISHED-TTL:PT1H
BEGIN:VTIMEZONE
TZID:America/New_York
BEGIN:DAYLIGHT
TZOFFSETFROM:-0500
TZOFFSETTO:-0400
TZNAME:EDT
DTSTART:20240310T070000
END:DAYLIGHT
BEGIN:STANDARD
TZOFFSETFROM:-0400
TZOFFSETTO:-0500
TZNAME:EST
DTSTART:20241103T060000
END:STANDARD
BEGIN:DAYLIGHT
TZOFFSETFROM:-0500
TZOFFSETTO:-0400
TZNAME:EDT
DTSTART:20250309T070000
END:DAYLIGHT
BEGIN:STANDARD
TZOFFSETFROM:-0400
TZOFFSETTO:-0500
TZNAME:EST
DTSTART:20251102T060000
END:STANDARD
BEGIN:DAYLIGHT
TZOFFSETFROM:-0500
TZOFFSETTO:-0400
TZNAME:EDT
DTSTART:20260308T070000
END:DAYLIGHT
BEGIN:STANDARD
TZOFFSETFROM:-0400
TZOFFSETTO:-0500
TZNAME:EST
DTSTART:20261101T060000
END:STANDARD
END:VTIMEZONE
BEGIN:VEVENT
DTSTART;TZID=America/New_York:20250321T150000
DTEND;TZID=America/New_York:20250321T183000
DTSTAMP:20260421T041139
CREATED:20241211T220237Z
LAST-MODIFIED:20241222T065056Z
UID:1340-1742569200-1742581800@rockmetal.net
SUMMARY:Pentagram (USA) en Lima 2025
DESCRIPTION:La icónica banda de doom metal\, PENTAGRAM\, llega para ofrecer un espectáculo inolvidable. Con décadas de trayectoria\, la agrupación liderada por Bobby Liebling ha influido enormemente en la escena del metal y continúa siendo una referencia en su género.
URL:https://rockmetal.net/evento/pentagram-usa-en-lima-2025/
LOCATION:Centro Convenciones Festiva\, Av. Alfonso Ugarte 1439\, Lima\, Lima\, 15082\, Peru
CATEGORIES:Doom Metal
ATTACH;FMTTYPE=image/png:https://rockmetal.net/wp-content/uploads/2024/12/pentagram-peru.png
END:VEVENT
END:VCALENDAR