BEGIN:VCALENDAR
VERSION:2.0
PRODID:-//Rock Metal Magazine - ECPv6.15.20//NONSGML v1.0//EN
CALSCALE:GREGORIAN
METHOD:PUBLISH
X-WR-CALNAME:Rock Metal Magazine
X-ORIGINAL-URL:https://rockmetal.net
X-WR-CALDESC:Events for Rock Metal Magazine
REFRESH-INTERVAL;VALUE=DURATION:PT1H
X-Robots-Tag:noindex
X-PUBLISHED-TTL:PT1H
BEGIN:VTIMEZONE
TZID:America/New_York
BEGIN:DAYLIGHT
TZOFFSETFROM:-0500
TZOFFSETTO:-0400
TZNAME:EDT
DTSTART:20240310T070000
END:DAYLIGHT
BEGIN:STANDARD
TZOFFSETFROM:-0400
TZOFFSETTO:-0500
TZNAME:EST
DTSTART:20241103T060000
END:STANDARD
BEGIN:DAYLIGHT
TZOFFSETFROM:-0500
TZOFFSETTO:-0400
TZNAME:EDT
DTSTART:20250309T070000
END:DAYLIGHT
BEGIN:STANDARD
TZOFFSETFROM:-0400
TZOFFSETTO:-0500
TZNAME:EST
DTSTART:20251102T060000
END:STANDARD
BEGIN:DAYLIGHT
TZOFFSETFROM:-0500
TZOFFSETTO:-0400
TZNAME:EDT
DTSTART:20260308T070000
END:DAYLIGHT
BEGIN:STANDARD
TZOFFSETFROM:-0400
TZOFFSETTO:-0500
TZNAME:EST
DTSTART:20261101T060000
END:STANDARD
END:VTIMEZONE
BEGIN:VEVENT
DTSTART;TZID=America/New_York:20250318T150000
DTEND;TZID=America/New_York:20250318T185959
DTSTAMP:20260422T200646
CREATED:20241211T234947Z
LAST-MODIFIED:20241222T070705Z
UID:1354-1742310000-1742324399@rockmetal.net
SUMMARY:Gutalax en Lima 2025
DESCRIPTION:La banda de Republica Checa llega  a Lima por primera vez este 18 de marzo del 2025 en Yield Bar.
URL:https://rockmetal.net/evento/gutalax-en-lima/
LOCATION:Yield Rock Bar\, Jiron Carabaya 815\, Cercado de Lima\, Lima\, Peru
CATEGORIES:Death Metal
ATTACH;FMTTYPE=image/png:https://rockmetal.net/wp-content/uploads/2024/12/gutalaxbanner.png
ORGANIZER;CN="Xaria Music":MAILTO:Xariamusic.oficina@gmail.com
END:VEVENT
END:VCALENDAR